<?xml version="1.0" encoding="UTF-8"?>
<Capabilities xmlns="http://www.opengis.net/wmts/1.0"
xmlns:ows="http://www.opengis.net/ows/1.1"
xmlns:xlink="http://www.w3.org/1999/xlink"
xmlns:xsi="http://www.w3.org/2001/XMLSchema-instance"
xmlns:gml="http://www.opengis.net/gml"
xsi:schemaLocation="http://www.opengis.net/wmts/1.0 http://schemas.opengis.net/wmts/1.0/wmtsGetCapabilities_response.xsd"
version="1.0.0">
<!-- Service Identification --> <ows:ServiceIdentification>
<ows:Title>Hosted_練馬区役所周辺航空写真</ows:Title>
<ows:ServiceType>OGC WMTS</ows:ServiceType>
<ows:ServiceTypeVersion>1.0.0</ows:ServiceTypeVersion>
</ows:ServiceIdentification> <!-- Operations Metadata --> <ows:OperationsMetadata>
<ows:Operation name="GetCapabilities">
<ows:DCP>
<ows:HTTP>
<ows:Get xlink:href="https://svr-moej.gisservice.jp/arcgis/rest/services/Hosted/%E7%B7%B4%E9%A6%AC%E5%8C%BA%E5%BD%B9%E6%89%80%E5%91%A8%E8%BE%BA%E8%88%AA%E7%A9%BA%E5%86%99%E7%9C%9F/MapServer/WMTS/1.0.0/WMTSCapabilities.xml">
<ows:Constraint name="GetEncoding">
<ows:AllowedValues>
<ows:Value>RESTful</ows:Value>
</ows:AllowedValues>
</ows:Constraint>
</ows:Get>
<!-- add KVP binding in 10.1 -->
<ows:Get xlink:href="https://svr-moej.gisservice.jp/arcgis/rest/services/Hosted/%E7%B7%B4%E9%A6%AC%E5%8C%BA%E5%BD%B9%E6%89%80%E5%91%A8%E8%BE%BA%E8%88%AA%E7%A9%BA%E5%86%99%E7%9C%9F/MapServer/WMTS?">
<ows:Constraint name="GetEncoding">
<ows:AllowedValues>
<ows:Value>KVP</ows:Value>
</ows:AllowedValues>
</ows:Constraint>
</ows:Get>
</ows:HTTP>
</ows:DCP>
</ows:Operation>
<ows:Operation name="GetTile">
<ows:DCP>
<ows:HTTP>
<ows:Get xlink:href="https://svr-moej.gisservice.jp/arcgis/rest/services/Hosted/%E7%B7%B4%E9%A6%AC%E5%8C%BA%E5%BD%B9%E6%89%80%E5%91%A8%E8%BE%BA%E8%88%AA%E7%A9%BA%E5%86%99%E7%9C%9F/MapServer/WMTS/tile/1.0.0/">
<ows:Constraint name="GetEncoding">
<ows:AllowedValues>
<ows:Value>RESTful</ows:Value>
</ows:AllowedValues>
</ows:Constraint>
</ows:Get>
<ows:Get xlink:href="https://svr-moej.gisservice.jp/arcgis/rest/services/Hosted/%E7%B7%B4%E9%A6%AC%E5%8C%BA%E5%BD%B9%E6%89%80%E5%91%A8%E8%BE%BA%E8%88%AA%E7%A9%BA%E5%86%99%E7%9C%9F/MapServer/WMTS?">
<ows:Constraint name="GetEncoding">
<ows:AllowedValues>
<ows:Value>KVP</ows:Value>
</ows:AllowedValues>
</ows:Constraint>
</ows:Get>
</ows:HTTP>
</ows:DCP>
</ows:Operation>
</ows:OperationsMetadata> <Contents>
<!--Layer--> <Layer>
<ows:Title>Hosted_練馬区役所周辺航空写真</ows:Title> <ows:Identifier>Hosted_練馬区役所周辺航空写真</ows:Identifier>
<ows:BoundingBox crs="urn:ogc:def:crs:EPSG::2451">
<ows:LowerCorner>-28500.0 -20000.0</ows:LowerCorner>
<ows:UpperCorner>-27000.0 -18000.0</ows:UpperCorner>
</ows:BoundingBox> <ows:WGS84BoundingBox crs="urn:ogc:def:crs:OGC:2:84">
<ows:LowerCorner>139.6121706038238 35.74291396844187</ows:LowerCorner>
<ows:UpperCorner>139.63432041151506 35.75647291921774</ows:UpperCorner>
</ows:WGS84BoundingBox>
<Style isDefault="true">
<ows:Title>Default Style</ows:Title>
<ows:Identifier>default</ows:Identifier>
</Style>
<Format>image/jpgpng</Format>
<TileMatrixSetLink>
<TileMatrixSet>default028mm</TileMatrixSet>
</TileMatrixSetLink>
<ResourceURL format="image/jpgpng" resourceType="tile" template="https://svr-moej.gisservice.jp/arcgis/rest/services/Hosted/%E7%B7%B4%E9%A6%AC%E5%8C%BA%E5%BD%B9%E6%89%80%E5%91%A8%E8%BE%BA%E8%88%AA%E7%A9%BA%E5%86%99%E7%9C%9F/MapServer/WMTS/tile/1.0.0/Hosted_練馬区役所周辺航空写真/{Style}/{TileMatrixSet}/{TileMatrix}/{TileRow}/{TileCol}" />
</Layer> <!--TileMatrixSet-->
<TileMatrixSet>
<ows:Title>TileMatrix using 0.28mm</ows:Title>
<ows:Abstract>The tile matrix set that has scale values calculated based on the dpi defined by OGC specification (dpi assumes 0.28mm as the physical distance of a pixel).</ows:Abstract> <ows:Identifier>default028mm</ows:Identifier>
<ows:SupportedCRS>urn:ogc:def:crs:EPSG::2451</ows:SupportedCRS>
<TileMatrix>
<ows:Identifier>0</ows:Identifier>
<ScaleDenominator>2.790447693262794E8</ScaleDenominator>
<TopLeftCorner>6015820.416625889 -1.000096453265511E7</TopLeftCorner> <TileWidth>256</TileWidth> <TileHeight>256</TileHeight>
<MatrixWidth>1</MatrixWidth> <MatrixHeight>1</MatrixHeight>
</TileMatrix>
<TileMatrix>
<ows:Identifier>1</ows:Identifier>
<ScaleDenominator>1.395223846631397E8</ScaleDenominator>
<TopLeftCorner>6015820.416625889 -1.000096453265511E7</TopLeftCorner> <TileWidth>256</TileWidth> <TileHeight>256</TileHeight>
<MatrixWidth>1</MatrixWidth> <MatrixHeight>1</MatrixHeight>
</TileMatrix>
<TileMatrix>
<ows:Identifier>2</ows:Identifier>
<ScaleDenominator>6.976119233156985E7</ScaleDenominator>
<TopLeftCorner>6015820.416625889 -1.000096453265511E7</TopLeftCorner> <TileWidth>256</TileWidth> <TileHeight>256</TileHeight>
<MatrixWidth>2</MatrixWidth> <MatrixHeight>2</MatrixHeight>
</TileMatrix>
<TileMatrix>
<ows:Identifier>3</ows:Identifier>
<ScaleDenominator>3.4880596165784925E7</ScaleDenominator>
<TopLeftCorner>6015820.416625889 -1.000096453265511E7</TopLeftCorner> <TileWidth>256</TileWidth> <TileHeight>256</TileHeight>
<MatrixWidth>4</MatrixWidth> <MatrixHeight>3</MatrixHeight>
</TileMatrix>
<TileMatrix>
<ows:Identifier>4</ows:Identifier>
<ScaleDenominator>1.7440298082892463E7</ScaleDenominator>
<TopLeftCorner>6015820.416625889 -1.000096453265511E7</TopLeftCorner> <TileWidth>256</TileWidth> <TileHeight>256</TileHeight>
<MatrixWidth>8</MatrixWidth> <MatrixHeight>5</MatrixHeight>
</TileMatrix>
<TileMatrix>
<ows:Identifier>5</ows:Identifier>
<ScaleDenominator>8720149.041446231</ScaleDenominator>
<TopLeftCorner>6015820.416625889 -1.000096453265511E7</TopLeftCorner> <TileWidth>256</TileWidth> <TileHeight>256</TileHeight>
<MatrixWidth>16</MatrixWidth> <MatrixHeight>10</MatrixHeight>
</TileMatrix>
<TileMatrix>
<ows:Identifier>6</ows:Identifier>
<ScaleDenominator>4360074.520723116</ScaleDenominator>
<TopLeftCorner>6015820.416625889 -1.000096453265511E7</TopLeftCorner> <TileWidth>256</TileWidth> <TileHeight>256</TileHeight>
<MatrixWidth>32</MatrixWidth> <MatrixHeight>20</MatrixHeight>
</TileMatrix>
<TileMatrix>
<ows:Identifier>7</ows:Identifier>
<ScaleDenominator>2180037.260361558</ScaleDenominator>
<TopLeftCorner>6015820.416625889 -1.000096453265511E7</TopLeftCorner> <TileWidth>256</TileWidth> <TileHeight>256</TileHeight>
<MatrixWidth>64</MatrixWidth> <MatrixHeight>39</MatrixHeight>
</TileMatrix>
<TileMatrix>
<ows:Identifier>8</ows:Identifier>
<ScaleDenominator>1090018.630180779</ScaleDenominator>
<TopLeftCorner>6015820.416625889 -1.000096453265511E7</TopLeftCorner> <TileWidth>256</TileWidth> <TileHeight>256</TileHeight>
<MatrixWidth>128</MatrixWidth> <MatrixHeight>78</MatrixHeight>
</TileMatrix>
<TileMatrix>
<ows:Identifier>9</ows:Identifier>
<ScaleDenominator>545009.3150903895</ScaleDenominator>
<TopLeftCorner>6015820.416625889 -1.000096453265511E7</TopLeftCorner> <TileWidth>256</TileWidth> <TileHeight>256</TileHeight>
<MatrixWidth>256</MatrixWidth> <MatrixHeight>155</MatrixHeight>
</TileMatrix>
<TileMatrix>
<ows:Identifier>10</ows:Identifier>
<ScaleDenominator>272504.6575451947</ScaleDenominator>
<TopLeftCorner>6015820.416625889 -1.000096453265511E7</TopLeftCorner> <TileWidth>256</TileWidth> <TileHeight>256</TileHeight>
<MatrixWidth>512</MatrixWidth> <MatrixHeight>310</MatrixHeight>
</TileMatrix>
<TileMatrix>
<ows:Identifier>11</ows:Identifier>
<ScaleDenominator>136252.32877259736</ScaleDenominator>
<TopLeftCorner>6015820.416625889 -1.000096453265511E7</TopLeftCorner> <TileWidth>256</TileWidth> <TileHeight>256</TileHeight>
<MatrixWidth>1023</MatrixWidth> <MatrixHeight>619</MatrixHeight>
</TileMatrix>
<TileMatrix>
<ows:Identifier>12</ows:Identifier>
<ScaleDenominator>68126.16438629868</ScaleDenominator>
<TopLeftCorner>6015820.416625889 -1.000096453265511E7</TopLeftCorner> <TileWidth>256</TileWidth> <TileHeight>256</TileHeight>
<MatrixWidth>2045</MatrixWidth> <MatrixHeight>1238</MatrixHeight>
</TileMatrix>
<TileMatrix>
<ows:Identifier>13</ows:Identifier>
<ScaleDenominator>34063.08219314934</ScaleDenominator>
<TopLeftCorner>6015820.416625889 -1.000096453265511E7</TopLeftCorner> <TileWidth>256</TileWidth> <TileHeight>256</TileHeight>
<MatrixWidth>4089</MatrixWidth> <MatrixHeight>2476</MatrixHeight>
</TileMatrix>
<TileMatrix>
<ows:Identifier>14</ows:Identifier>
<ScaleDenominator>17031.54109657467</ScaleDenominator>
<TopLeftCorner>6015820.416625889 -1.000096453265511E7</TopLeftCorner> <TileWidth>256</TileWidth> <TileHeight>256</TileHeight>
<MatrixWidth>8178</MatrixWidth> <MatrixHeight>4952</MatrixHeight>
</TileMatrix>
<TileMatrix>
<ows:Identifier>15</ows:Identifier>
<ScaleDenominator>8515.770548287335</ScaleDenominator>
<TopLeftCorner>6015820.416625889 -1.000096453265511E7</TopLeftCorner> <TileWidth>256</TileWidth> <TileHeight>256</TileHeight>
<MatrixWidth>16355</MatrixWidth> <MatrixHeight>9903</MatrixHeight>
</TileMatrix>
<TileMatrix>
<ows:Identifier>16</ows:Identifier>
<ScaleDenominator>4257.885274143668</ScaleDenominator>
<TopLeftCorner>6015820.416625889 -1.000096453265511E7</TopLeftCorner> <TileWidth>256</TileWidth> <TileHeight>256</TileHeight>
<MatrixWidth>32710</MatrixWidth> <MatrixHeight>19805</MatrixHeight>
</TileMatrix>
<TileMatrix>
<ows:Identifier>17</ows:Identifier>
<ScaleDenominator>2128.942637071834</ScaleDenominator>
<TopLeftCorner>6015820.416625889 -1.000096453265511E7</TopLeftCorner> <TileWidth>256</TileWidth> <TileHeight>256</TileHeight>
<MatrixWidth>65419</MatrixWidth> <MatrixHeight>39609</MatrixHeight>
</TileMatrix>
<TileMatrix>
<ows:Identifier>18</ows:Identifier>
<ScaleDenominator>1064.471318535917</ScaleDenominator>
<TopLeftCorner>6015820.416625889 -1.000096453265511E7</TopLeftCorner> <TileWidth>256</TileWidth> <TileHeight>256</TileHeight>
<MatrixWidth>130837</MatrixWidth> <MatrixHeight>79217</MatrixHeight>
</TileMatrix>
</TileMatrixSet>
</Contents>
<ServiceMetadataURL xlink:href="https://svr-moej.gisservice.jp/arcgis/rest/services/Hosted/%E7%B7%B4%E9%A6%AC%E5%8C%BA%E5%BD%B9%E6%89%80%E5%91%A8%E8%BE%BA%E8%88%AA%E7%A9%BA%E5%86%99%E7%9C%9F/MapServer/WMTS/1.0.0/WMTSCapabilities.xml" /> </Capabilities>
